BEGIN:VCALENDAR
VERSION:2.0
PRODID:-//AuraQuanta - Terapias Integradas -  Biomagnetismo,ThetaHealing, Constelação Familiar,Barras de Access - ECPv6.15.1.1//NONSGML v1.0//EN
CALSCALE:GREGORIAN
METHOD:PUBLISH
X-WR-CALNAME:AuraQuanta - Terapias Integradas -  Biomagnetismo,ThetaHealing, Constelação Familiar,Barras de Access
X-ORIGINAL-URL:https://www.auraquanta.com.br
X-WR-CALDESC:Eventos para AuraQuanta - Terapias Integradas -  Biomagnetismo,ThetaHealing, Constelação Familiar,Barras de Access
REFRESH-INTERVAL;VALUE=DURATION:PT1H
X-Robots-Tag:noindex
X-PUBLISHED-TTL:PT1H
BEGIN:VTIMEZONE
TZID:America/Sao_Paulo
BEGIN:STANDARD
TZOFFSETFROM:-0300
TZOFFSETTO:-0300
TZNAME:-03
DTSTART:20230101T000000
END:STANDARD
END:VTIMEZONE
BEGIN:VEVENT
DTSTART;TZID=America/Sao_Paulo:20240521T190000
DTEND;TZID=America/Sao_Paulo:20240521T213000
DTSTAMP:20260423T125317
CREATED:20240219T181222Z
LAST-MODIFIED:20240506T151720Z
UID:1828-1716318000-1716327000@www.auraquanta.com.br
SUMMARY:Constelação Familiar em Grupo em Copacabana
DESCRIPTION:Temos um recado da terapeuta Caroline Mello @carolinemello.psicoterapeuta para você! \n“Como romper crenças e lealdades que te travam?\nBora romper esses ciclos de repetição? \nEu mudei muitas coisas na minha vida para melhor\, apenas soltando algumas lealdades e compreendendo alguns padrões.\nA Constelação Familiar me ajudou muito! \nTODO ENCONTRO DE CONSTELAÇÃO É UMA GRANDE OPORTUNIDADE DE CRESCIMENTO\, e juntos nesse dia 05/03\, na AuraQuanta\, vamos fazer exercícios para nos posicionarmos com mais firmeza diante da vida\, assumindo nosso lugar de força. \n✨O que pode ser Constelado?\n– dificuldades no relacionamento\n– dinheiro\n– doença\n– filhos\n– autoestima\n– tristeza\n– falta de motivação\n– libido  Entre outros temas que te empedem de viver uma vida próspera\, mais confiante\, segura de si\, com mais saúde e um relacionamento feliz. \nGaranta a sua vaga para Constelar ou participar!\nSem desculpas e histórias\, viu? Te espero nesse encontro!” \n🌟Workshop Constelação Familiar\n📅Data: 21/05 – terça feira\n⌚Início às 19h \nNão procrastine e faça logo sua inscrição através do link que estará disponível nos stories\, no comentário ou solicite diretamente para a Caroline 🔥 \nO link para inscrição 👇🏼\nhttps://docs.google.com/forms/d/e/1FAIpQLSf6gbZArw8yii1or5RbzkWq9nYhP9p1rzMXNmQUCPD07j0F2g/viewform \naté 🌹\nTe esperamos com carinho\nwww.auraquanta.com.br
URL:https://www.auraquanta.com.br/evento/constelacao-familiar-em-grupo-em-copacabana-2/
ATTACH;FMTTYPE=image/png:https://www.auraquanta.com.br/wp-content/uploads/2024/02/Constelacao-Familiar-em-Copacabana.png
END:VEVENT
BEGIN:VEVENT
DTSTART;TZID=America/Sao_Paulo:20240309T130000
DTEND;TZID=America/Sao_Paulo:20240309T190000
DTSTAMP:20260423T125317
CREATED:20240219T184024Z
LAST-MODIFIED:20240219T184024Z
UID:1858-1709989200-1710010800@www.auraquanta.com.br
SUMMARY:Circuito Energético - Sessão Completa (Tarô\, Biomagnetismo e Reancol)
DESCRIPTION:Embarque em uma jornada transformadora! Apresentamos o Circuito Terapêutico\, uma experiência única e poderosa que combina as habilidades de três terapeutas excepcionais para desbloquear suas energias e abrir portas para um futuro abundante. \nSessão de Limpeza Energética com Gabriel Habib: Liberte-se de padrões negativos e energias estagnadas por meio da técnica REANCOL. Sinta as energias mal qualificadas sendo substituídas por uma nova vitalidade e clareza\, abrindo espaço para novas possibilidades em sua jornada rumo a prosperidade. \nSessão express de Tarô com Marita Lott: Deixe-se guiar pelas cartas ancestrais e desvende os mistérios que o universo quer revelar. Marita Lott\, uma especialista renomada em tarô\, irá oferecer uma leitura rápida nos seus baralhos\, com a intenção de revelar oportunidades ocultas e caminhos a explorar. \nSessão de Detox com Biomagnetismo com Flavia Costa: Equilibre suas energias vitais com uma sessão revitalizante de biomagnetismo. Flavia Costa trabalha a harmonia de corpo\, mente e espírito\, com intenção de dissipar bloqueios energéticos que podem estar limitando sua prosperidade. \nEssa jornada de transformação é a oportunidade perfeita para limpar\, renovar e revitalizar suas energias\, permitindo que você abrace plenamente as oportunidades que o universo tem reservado para você. \nInvestimento em Você Mesmo:\nSessão Completa (Tarô\, Biomagnetismo e Reancol) – R$ 260\nDuração – Aproximadamente 1h\nData: 09 de março a partir das 13h30\nVagas limitadas – Agende seu horário. \nNão deixe essa chance escapar! Reserve seu lugar agora e dê o primeiro passo em direção a uma vida de prosperidade plena. Abra-se para novas possibilidades e permita-se receber as bênçãos que o universo tem a oferecer. \nPara reservas e mais informações\, entre em contato:\nWhatsApp – 21 99912-0423\nwww.auraquanta.com.br \nLiberte-se do passado\, abrace o presente e crie uma vida próspera e plena! \nTe esperamos com carinho ❤️\n@flaviacostarj @gabrieljhterapeuta @lottmarita
URL:https://www.auraquanta.com.br/evento/circuito-energetico-sessao-completa-taro-biomagnetismo-e-reancol/
ATTACH;FMTTYPE=image/png:https://www.auraquanta.com.br/wp-content/uploads/2024/02/Circuito-Energetico-AuraQuanta-Copacabana-Rio-de-Janeiro-1.png
END:VEVENT
BEGIN:VEVENT
DTSTART;TZID=America/Sao_Paulo:20240228T080000
DTEND;TZID=America/Sao_Paulo:20240228T170000
DTSTAMP:20260423T125317
CREATED:20240219T182828Z
LAST-MODIFIED:20240219T182923Z
UID:1855-1709107200-1709139600@www.auraquanta.com.br
SUMMARY:Formação em Leitura de Registros Akáshicos
DESCRIPTION:Em tudo há registros\, em nosso DNA\, nas plantas e cristais\, há registros na sua casa em seu país\, na sua trajetória de vida e de alma. Avessar seus registros akáshicos traz entendimentos\,  maturidade espirital e liberação kármica. \nQuer aprender como acessar essa sabedoria?\nVem comigo\, vamos desvendar tudo que limita sua realidade. \nFormação online em Leitura de Registros Akáshicos com Luciana Alcaraz @terapiaseenergias\nData de início: 28 de fevereiro \nContatos para inscrição e mais informações:\n21 99912-0423 – AuraQuanta
URL:https://www.auraquanta.com.br/evento/formacao-em-leitura-de-registros-akashicos/
ATTACH;FMTTYPE=image/png:https://www.auraquanta.com.br/wp-content/uploads/2024/02/Formacao-em-Leitura-de-Registros-Akashicos.png
END:VEVENT
BEGIN:VEVENT
DTSTART;TZID=America/Sao_Paulo:20240115T190000
DTEND;TZID=America/Sao_Paulo:20240115T203000
DTSTAMP:20260423T125317
CREATED:20231031T220913Z
LAST-MODIFIED:20231031T223312Z
UID:1847-1705345200-1705350600@www.auraquanta.com.br
SUMMARY:Manifeste 2024 - Online e Presencial
DESCRIPTION:Junte-se a nós no Manifeste 2024 para uma manifestação poderosa do melhor ano da sua vida! \nAtravés de técnicas orientadas pela terapeuta Flavia Costa\, você poderá potencializar a sua manifestação através da força do grupo. Seja parte deste encontro\, tanto presencialmente quanto online\, e dê vida aos seus sonhos mais especiais. \nDe bônus você receberá um PDF com dicas para seguir alinhando a sua energia com o seu propósito de vida e um áudio com uma meditação guiada para seguir praticando a manifestação individualmente. \nDia 15 de janeiro \nHorário: a partir das 19h \nPode assistir online ou presencial \nValor de troca: R$ 53 \nBônus: PDF com orientações e áudio de meditação guiada de manifestação ThetaHealing \nÉ necessário fazer inscrição prévia no 21 99912-0423 \nTe esperamos com carinho \n 
URL:https://www.auraquanta.com.br/evento/manifeste-2024-online-e-presencial/
ATTACH;FMTTYPE=image/png:https://www.auraquanta.com.br/wp-content/uploads/2023/10/Manifeste-2024.png
END:VEVENT
BEGIN:VEVENT
DTSTART;TZID=America/Sao_Paulo:20231031T080000
DTEND;TZID=America/Sao_Paulo:20231031T093000
DTSTAMP:20260423T125317
CREATED:20231026T215517Z
LAST-MODIFIED:20231026T220256Z
UID:1835-1698739200-1698744600@www.auraquanta.com.br
SUMMARY:Aula Aberta - Dança dos Chakras em Copacabana
DESCRIPTION:Participe da aula aberta e conheça a Dança dos Chakras com Patrícia Athayde \nEncontro de conexão com o corpo e a sua expressão dançando a energia dos chakras. \nUm profundo trabalho de autoconhecimento durante encontros que trazem muita animação para começar o dia! \nSeja bem vinde na aula aberta que vai acontecer dia 31/10 às 8H no AuraQuanta que fica em Copacabana. \nPara se inscrever fale com a Patrícia no 21 98705-9119. \n \nInscreva-se para a turma aberta de Dança dos Chakras\nNova turma da Dança dos Chakras PRESENCIAL em Copacabana toda terça – Rio de Janeiro \nEsse é um trabalho que une simplicidade e profundidade na reconexão com o corpo e o nosso próprio sentir\, trazendo mais harmonia\, equilíbrio e entusiasmo para o dia. \nJuntas vamos dançar a energia dos Chakras dentro das questões que o grupo trouxer naquela semana ou do que percebemos que está se abrindo para nós. \nNão precisa ter conhecimento prévio de dança. \nEncontros uma vez por semana nas terças feiras de 8h às 9h com Patrícia Athayde.\nCom vagas limitadas\, com muita amorosidade e acolhimento.\nEntre em contato para mais informações e para conhecer o plano mensal. \nWhatsApp 21 98705-9119. \nTe esperamos com carinho \n 
URL:https://www.auraquanta.com.br/evento/aula-aberta-danca-dos-chakras-em-copacabana/
ATTACH;FMTTYPE=image/png:https://www.auraquanta.com.br/wp-content/uploads/2023/10/Danca-dos-Chakras-em-Copacabana-aula-aberta.png
END:VEVENT
BEGIN:VEVENT
DTSTART;TZID=America/Sao_Paulo:20231017T190000
DTEND;TZID=America/Sao_Paulo:20231017T210000
DTSTAMP:20260423T125317
CREATED:20231004T154007Z
LAST-MODIFIED:20231004T154007Z
UID:1830-1697569200-1697576400@www.auraquanta.com.br
SUMMARY:Constelação Familiar em Grupo em Copacabana
DESCRIPTION:Constelação Familiar em Copacabana\nDia 17/10 – terça\nA partir das 19horas\nConteladora:@carolinemello.psicoterapeuta \nIMPORTANTE: para se inscrer é necessário preencher um formulário. Solicite o seu ou acesse os stories. \nLink de inscrição: https://docs.google.com/forms/d/e/1FAIpQLScbfABQdD9FnWgbpidAjJyyqQWjX8i3SeZRsow24XidhoZ9zQ/viewform \nPrecisa de mais informações?\nEntre em contato. \nTe esperamos com carinho.
URL:https://www.auraquanta.com.br/evento/constelacao-familiar-em-grupo-em-copacabana/
ATTACH;FMTTYPE=image/png:https://www.auraquanta.com.br/wp-content/uploads/2023/10/Constelacao-Familiar-em-Copacabana.png
END:VEVENT
BEGIN:VEVENT
DTSTART;VALUE=DATE:20230610
DTEND;VALUE=DATE:20230611
DTSTAMP:20260423T125317
CREATED:20230422T160844Z
LAST-MODIFIED:20230504T163407Z
UID:1742-1686355200-1686441599@www.auraquanta.com.br
SUMMARY:Curso Completo Cone Hindu em Copacabana
DESCRIPTION:🔥Imersão Cone Hindu\nData: 10/06 – sábado em Copacabana \nDois módulos em 1 só dia \nHorários:\n📌Módulo manhã/básico – 09h às 13h30\n📌Módulo tarde/avançado – 14h30 às 19h \nInvestimento:\nCada módulo: R$ 400\nCombo 2 módulos: R$ 600\n✨Inscrições 21 99912-0423 \nTe esperamos com carinho. \nComo funciona o Cone Hindu\nO cone hindu é também chamado de velas de Hopi ou cone chinês. A técnica é aplicada há milhares de anos\, reconhecida especialmente na China e na Índia. A terapia promove a limpeza energética e dissolve pensamentos nocivos e pode ser usada para tratamentos no campo energético\, emocional\, mental e físico.\n⠀\nO objeto em formato de um cone é feito a partir de cera de abelha\, parafina e algodão cru\, embebido em óleos essenciais e ervas medicinais\, é colocado em diversas partes do corpo. Conheça algumas das indicações do cone hindu:\n•Alergias respiratórias;\n•Ansiedade e estresse;\n•Dores de cabeça e enxaquecas;\n•Insônia;\n•Otalgias;\n•Perda de audição por bloqueio de secreções;\n•Redução olfativa;\n•Promove a centralização energética\, emocional e espiritual;\n•Traz clareza aos pensamentos;\n• Dentre outros.\n⠀\nComo o cone atua:\nCampo energético: energização do campo\, chacras e desobstrução de canais energéticos;\nCampo emocional: trabalho de emoções negativas como ansiedade\, desespero\, tristeza intensa\, raiva o e ciúmes;\nCampo físico: limpeza das vias auditivas e respiratórias e dores em diversos lugares do corpo;\nCampo mental: equilíbrio\, clareza de pensamentos e relaxamento. \nVenha aprender a aplicar essa técnica na AuraQuanta
URL:https://www.auraquanta.com.br/evento/curso-completo-cone-hindu/
ATTACH;FMTTYPE=image/png:https://www.auraquanta.com.br/wp-content/uploads/2023/04/Curso-completo-de-Cone-Hindu-em-Copacabana.png
END:VEVENT
BEGIN:VEVENT
DTSTART;TZID=America/Sao_Paulo:20230527T090000
DTEND;TZID=America/Sao_Paulo:20230603T170000
DTSTAMP:20260423T125317
CREATED:20230330T191419Z
LAST-MODIFIED:20230424T170412Z
UID:1665-1685178000-1685811600@www.auraquanta.com.br
SUMMARY:Workshop Reancol com Gabriel Habib na AuraQuanta
DESCRIPTION:VAGAS ABERTAS\nWorkshop Reancol\n🌟 Resgate e ancoramento do Corpo de Luz! 🌟\nConexão com o Logus Central e o diamante no centro da Terra💎!\nData: 27 de maio e 03 de junho\nHorário: das 9h as 18h \nREANCOL- Resgate e ancoramento do Corpo de Luz\nÉ uma Terapia Energética que canaliza a Fonte Matricial contida nos 13 Raios Chamas de Luz da Hierarquia Crística\, emanada através do Coração Espiritual Quântico do Senhor Jesus\, atuando fortemente na transformação e reequilíbrio de nossos corpos físico\, mental\, emocional\, espiritual e de todas as áreas de nossas vidas. Pode ser utilizado para qualquer ser e para setores da natureza\, planeta ou projetos. A Hierarquia Crística e composta pelos Anjos Divinos\, Seres Superiores\, Sábios manipuladores de energia\, a falange médica do astral\, os espíritos socorristas\, os Guardiões Sagrados\, entre outros. \nObjetivos\nAuxiliar no tratamento geral\, englobando desde a saúde até a reestruturação da vida espiritual\, pessoal\, material e financeira\,\n– Remover gradativamente energias mal qualificadas como: bloqueios emocionais\, traumas\, tensões\, estresse\,\npensamentos negativos\,distorções e programações negativas no inconsciente profundo e do mundo espiritual\, tanto em nível das memórias objetivas pessoal como Kármicas ancestrais e programações\,\n– Fornecer Proteção Divina e\n– Elevar e reativar\, paulatinamente\, a nossa essência\, redespertando e ancorando o padrão Divino de nossa Alma. \nQuem é Gabriel Habib\nNasceu com alta sensibilidade energética e em 1982\, iniciou seu caminho espiritual\, percorrendo diversas religiões\, denominações e estudos aplicados\, sendo de 1986 a sua primeira formação em Massagem Oriental. Hoje acumula 39 anos de experiência e prática espiritualista\, tendo canalizado a técnica REANCOL – Reativação e Ancoramento do Corpo de Luz. \nMais informações:\nWhatsApp 21 99912-0423\nLocal AuraQuanta – Copacabana – RJ \nTe esperamos com carinho. \nConheça um pouco do trabalho de Gabriel Habib e a técnica terapêutica Reancol
URL:https://www.auraquanta.com.br/evento/workshop-reancol-com-gabriel-habib-na-auraquanta/
ATTACH;FMTTYPE=image/png:https://www.auraquanta.com.br/wp-content/uploads/2023/03/reancol-auraquanta-workshop-terapiasholisticas.png
END:VEVENT
BEGIN:VEVENT
DTSTART;TZID=America/Sao_Paulo:20230512T100000
DTEND;TZID=America/Sao_Paulo:20230520T170000
DTSTAMP:20260423T125317
CREATED:20230416T212841Z
LAST-MODIFIED:20230424T164922Z
UID:1728-1683885600-1684602000@www.auraquanta.com.br
SUMMARY:Curso Despertar Akáshico em Copacabana
DESCRIPTION:Despertar Akáshico: PRESENCIAL COM APOIO ONLINE com Luciana Alcaraz em Copacabana – RJ \nO CURSO\nCurso Despertar Akáshico\, é um curso com 1 ano de acesso na plataforma. \nPara quem é esse curso :\nPara qualquer pessoa\, sem necessidade de formação ou conhecimentos anteriores\, que queira investir em seu autoconhecimento\, reconhecimento de seus propósitos de vida e sua saúde mental/ emocional/espiritual para conseguir qualidade de vida\, a vida que quer viver. O acesso aos registros akáshicos por diferentes técnicas\, é um instrumento para crescimento pessoal por toda a vida. \nPara pessoas que querem ingressar em carreira de trabalho com terapias holísticas e energéticas\, permitindo-lhes\, por meio de seu trabalho como leitor de registros akáshicos para clientes no mundo inteiro\, contribuir para o crescimento pessoal deles\, empoderando-os para conseguirem concretizar a vida que querem para si mesmos. \nPara terapeutas\, envolvidos com auxílio à qualidade de vida e saúde geral de seus pacientes\, como ferramenta complementar para que seus atendimentos alcancem seus propósitos com muito mais potência. \nPara acompanhamento das aulas presenciais\, o estudante deve trazer um caderno (se possível sem pauta) para registros das experiências\, caneta e conjunto de lápis de cor ou canetinhas coloridas. \nAcordar 1- DIA 1\nI. Correr energia (Técnica Inner Fusion): 15 minutos para se colocar no presente\, desbloquear sua intuição e liberar seu potencial máximo pela limpeza de emoções\nII. Como sua intuição conversa com você: as nossas clairs\nIII. Seu Eu Superior – a versão mais sábia de você mesmo \nAcordar 2- DIA 2\nI. Entrando em seu próprio Registro Akáshico: sintonização com os quatro elementos\nII. Fazendo perguntas aos meus guias Akáshicos\nAcordar 3\nI. Nossa criança interior: liberando bloqueios e recuperando nossas potências \nAcordar 4 e 5 – DIA 3\nI. Trazer os registros à sua volta: biblioteca com as respostas que busca\nII. Libertação e expressão pela arte\nIII. Expressão e co-criação pela escrita \nTécnicas de suporte- onine\nI. Explosão do Ego (Ego Burst)\nII. Fórmula de Liberdade (Freedom Formula)\nIII. Choque mental (Mind Volt)\nIV. Super conexão (Hyperconnected)\nV. O diário de sonhos \nRECURSOS DE APOIO ONLINE\nO aluno terá ainda o apoio de: \nplataforma digital\, com todas as gravações e PDFs do curso\, produzidos pelo Akashic Records Institute (Instituto Registros Akáshicos / Patrícia Missakian)\, disponível por 1 ano após o início das vivências presenciais. \nCRONOGRAMA DO CURSO\nPeríodo : 12\, 13 e 20 de maio\nHorário: 10 até 17h\n**Com uma pausa para almoço de 1h \nPara se inscrever e informações sobre valor fale com a AuraQuanta\n21 99912-0423\nTe esperamos com carinho
URL:https://www.auraquanta.com.br/evento/curso-despertar-akashico-em-copacabana/
ATTACH;FMTTYPE=image/png:https://www.auraquanta.com.br/wp-content/uploads/2023/04/Curso-Despertar-Akashico-em-Copacabana-AuraQuanta.png
END:VEVENT
BEGIN:VEVENT
DTSTART;TZID=America/Sao_Paulo:20230511T190000
DTEND;TZID=America/Sao_Paulo:20230511T210000
DTSTAMP:20260423T125317
CREATED:20230416T194340Z
LAST-MODIFIED:20230416T204029Z
UID:1715-1683831600-1683838800@www.auraquanta.com.br
SUMMARY:3º Encontro Mulheres Incríveis - Mensal
DESCRIPTION:Vem aí nosso encontro mensal – só para mulheres! \nUma roda terapêutica para viver sua verdade e trabalhar questões\, que juntas\, podemos curar e honrar com mais potência pela união do grupo. \n🌺3º Encontro Mulheres Incríveis – presencial e mensal\nData: 11/05 – quinta\nHorário: 19h\nValor social e consciente: R$53\,00\nLocal: AuraQuanta\nEndereço: AuraQuanta: R. Miguel Lemos\, 44 – Sala 601 – Copacabana\, Rio de Janeiro \nInscrições no WhatsApp (21) 99912-0423 \nInscreva-se.\nTe esperamos com carinho
URL:https://www.auraquanta.com.br/evento/3o-encontro-mulheres-incriveis-mensal/
LOCATION:AuraQuanta\, Rua Miguel Lemos 44 sala 601 - Copacabana\, Rio de Janeiro\, RJ\, 22071-000\, Brasil
ATTACH;FMTTYPE=image/png:https://www.auraquanta.com.br/wp-content/uploads/2023/04/Encontro-Terapeutico-Mulheres-Incriveis-em-Copacabana.png
END:VEVENT
BEGIN:VEVENT
DTSTART;TZID=America/Sao_Paulo:20230426T080000
DTEND;TZID=America/Sao_Paulo:20241218T093000
DTSTAMP:20260423T125317
CREATED:20230416T204831Z
LAST-MODIFIED:20240221T145109Z
UID:1721-1682496000-1734514200@www.auraquanta.com.br
SUMMARY:Dança dos Chakras - em Copacabana
DESCRIPTION:Turma da Dança dos Chakras PRESENCIAL em Copacabana toda quarta na parte da manhã – Rio de Janeiro \nEsse é um trabalho que une simplicidade e profundidade na reconexão com o corpo e o nosso próprio sentir\, trazendo mais harmonia\, equilíbrio e entusiasmo para o dia. \nJuntas vamos dançar a energia dos Chakras dentro das questões que o grupo trouxer naquela semana ou do que percebemos que está se abrindo para nós. \nNão precisa ter conhecimento prévio de dança. \nEncontros uma vez por semana nas quartas das 9:30 até 10:30 com Patrícia Athayde.\nCom vagas limitadas\, com muita amorosidade e acolhimento.\nEntre em contato para mais informações e para conhecer o plano mensal. \nWhatsApp (21) 99912-0423 \nTe esperamos com carinho
URL:https://www.auraquanta.com.br/evento/danca-dos-chakras-em-copacabana/
ATTACH;FMTTYPE=image/png:https://www.auraquanta.com.br/wp-content/uploads/2023/04/Danca-dos-Chakras-em-Copacabana.png
END:VEVENT
BEGIN:VEVENT
DTSTART;TZID=America/Sao_Paulo:20230414T190000
DTEND;TZID=America/Sao_Paulo:20230414T210000
DTSTAMP:20260423T125317
CREATED:20230330T184447Z
LAST-MODIFIED:20230330T205153Z
UID:1659-1681498800-1681506000@www.auraquanta.com.br
SUMMARY:Encontro Mulheres Incríveis na AuraQuanta
DESCRIPTION:Venha comemorar o Dia das mulheres na Auraquanta\, e reafirmar o quão maravilhosa você é!!! \nUm evento para confraternizar\, acolher e curar questões ligadas ao feminino. Além de uma conversa de acolhimento e consciência\, faremos exercícios respiratórios\, para alinhar a frequência\, e uma roda de limpeza com Ho’hoponopono\, onde a cura de uma\, é a cura de todas. \nTeremos também\, um brinde acompanhado de um lanche gostoso e saudável. Somos todas maravilhosas e precisamos nos apropriar de nossa força e potência máxima. \nData: 13/04\nValor social e consciente: R$53\,00\nLocal: AuraQuanta\nEndereço: AuraQuanta: R. Miguel Lemos\, 44 – Sala 601 – Copacabana\, Rio de Janeiro \nInscreva-se. \nTe esperamos com carinho!
URL:https://www.auraquanta.com.br/evento/evento-1/
ATTACH;FMTTYPE=image/png:https://www.auraquanta.com.br/wp-content/uploads/2023/03/mulheresincriveisauraquanta-workshop-terapiasholisticas.png
END:VEVENT
END:VCALENDAR